BEGIN:VCALENDAR
VERSION:2.0
PRODID:-//wp-events-plugin.com//6.4.7.1//EN
TZID:Europe/Berlin
X-WR-TIMEZONE:Europe/Berlin
BEGIN:VEVENT
UID:175@moveplus.de
DTSTART;TZID=Europe/Berlin:20240322T190000
DTEND;TZID=Europe/Berlin:20240323T000000
DTSTAMP:20240308T150226Z
URL:https://moveplus.de/events/jazz-in-der-moveplus-lounge/
SUMMARY:JAZZ in der MOVEplus Lounge
DESCRIPTION:Am  Freitag\, den 22. März  möchten wir wieder alle MOVEplu
 s Lounge Fans zu unserem nächsten JAZZ-ABEND einladen.\n\nMit "Just Frien
 ds" haben wir wieder eine in unserer Region bekannte Jazzband gewonnen\,\n
 die einen unterhaltsamen und kurzweiligen Abend verspricht. Es geht los ab
  19:00 Uhr.\nDer Eintritt ist kostenfrei\, wir bitten um eine kleine Spend
 e für die Band Band.\n\n&nbsp\;\n\n
END:VEVENT
BEGIN:VTIMEZONE
TZID:Europe/Berlin
X-LIC-LOCATION:Europe/Berlin
BEGIN:STANDARD
DTSTART:20231029T020000
TZOFFSETFROM:+0200
TZOFFSETTO:+0100
TZNAME:CET
END:STANDARD
END:VTIMEZONE
END:VCALENDAR