BEGIN:VCALENDAR
VERSION:2.0
PRODID:-//wp-events-plugin.com//6.4.7.1//EN
TZID:Europe/Berlin
X-WR-TIMEZONE:Europe/Berlin
BEGIN:VEVENT
UID:177@moveplus.de
DTSTART;TZID=Europe/Berlin:20240405T180000
DTEND;TZID=Europe/Berlin:20240405T230000
DTSTAMP:20240308T153728Z
URL:https://moveplus.de/events/magisches-dinner-in-der-moveplus-lounge-2/
SUMMARY:MAGISCHES DINNER in der MOVEplus Lounge
DESCRIPTION:Exklusives Thai-Kochevent mit Zaubershow (magisches Dinner)\nMa
 gische Momente und den Zauber der Thai-Küche könnt ihr jetzt mit allen S
 innen erleben und mitgestalten. Lernt leckere Rezepte der tailändischen K
 üche kennen und lasst Euch von Magier Maximus bekochen und beim gemeinsam
 en Essen mit faszinierenden Zauber-Routinen am Tisch bezaubern.\n\nWeitere
  Informationen und Buchungen unter:\nhttps://magischeskochen.de\n\n&nbsp\;
 \n\n
END:VEVENT
BEGIN:VTIMEZONE
TZID:Europe/Berlin
X-LIC-LOCATION:Europe/Berlin
BEGIN:DAYLIGHT
DTSTART:20240331T030000
TZOFFSETFROM:+0100
TZOFFSETTO:+0200
TZNAME:CEST
END:DAYLIGHT
END:VTIMEZONE
END:VCALENDAR