BEGIN:VCALENDAR
VERSION:2.0
PRODID:-//wp-events-plugin.com//6.4.7.1//EN
TZID:Europe/Berlin
X-WR-TIMEZONE:Europe/Berlin
BEGIN:VEVENT
UID:179@moveplus.de
DTSTART;TZID=Europe/Berlin:20240518T180000
DTEND;TZID=Europe/Berlin:20240518T230000
DTSTAMP:20240515T104601Z
URL:https://moveplus.de/events/magisches-dinner-in-der-moveplus-lounge-3/
SUMMARY:MAGISCHES DINNER in der MOVEplus Lounge
DESCRIPTION:Samstag\, 18. Mai 2024 ab 18:00 Uhr\nMagische Momente und den Z
 auber der Thai-Küche könnt ihr jetzt mit allen Sinnen erleben und mitges
 talten.\nLernt leckere Rezepte der tailändischen Küche kennen und lasst 
 Euch von Magier Maximus bekochen und beim\ngemeinsamen Essen mit faszinier
 enden Zauber-Routinen am Tisch bezaubern.\n\nHol Dir unser LAST-MINUTE Ang
 ebot für kommenden Samstag:  59 € (statt 97 €) pro Person\n\nWeitere
  Informationen und Buchungen unter:\nhttps://magischeskochen.de\n&nbsp\;\n
 \n
END:VEVENT
BEGIN:VTIMEZONE
TZID:Europe/Berlin
X-LIC-LOCATION:Europe/Berlin
BEGIN:DAYLIGHT
DTSTART:20240331T030000
TZOFFSETFROM:+0100
TZOFFSETTO:+0200
TZNAME:CEST
END:DAYLIGHT
END:VTIMEZONE
END:VCALENDAR